BEGIN:VCALENDAR
VERSION:2.0
PRODID:-//Betsy Bell, Author - ECPv6.15.20//NONSGML v1.0//EN
CALSCALE:GREGORIAN
METHOD:PUBLISH
X-WR-CALNAME:Betsy Bell, Author
X-ORIGINAL-URL:https://betsybellauthor.com
X-WR-CALDESC:Events for Betsy Bell, Author
REFRESH-INTERVAL;VALUE=DURATION:PT1H
X-Robots-Tag:noindex
X-PUBLISHED-TTL:PT1H
BEGIN:VTIMEZONE
TZID:America/Los_Angeles
BEGIN:DAYLIGHT
TZOFFSETFROM:-0800
TZOFFSETTO:-0700
TZNAME:PDT
DTSTART:20170312T100000
END:DAYLIGHT
BEGIN:STANDARD
TZOFFSETFROM:-0700
TZOFFSETTO:-0800
TZNAME:PST
DTSTART:20171105T090000
END:STANDARD
BEGIN:DAYLIGHT
TZOFFSETFROM:-0800
TZOFFSETTO:-0700
TZNAME:PDT
DTSTART:20180311T100000
END:DAYLIGHT
BEGIN:STANDARD
TZOFFSETFROM:-0700
TZOFFSETTO:-0800
TZNAME:PST
DTSTART:20181104T090000
END:STANDARD
BEGIN:DAYLIGHT
TZOFFSETFROM:-0800
TZOFFSETTO:-0700
TZNAME:PDT
DTSTART:20190310T100000
END:DAYLIGHT
BEGIN:STANDARD
TZOFFSETFROM:-0700
TZOFFSETTO:-0800
TZNAME:PST
DTSTART:20191103T090000
END:STANDARD
END:VTIMEZONE
BEGIN:VEVENT
DTSTART;TZID=America/Los_Angeles:20181114T180000
DTEND;TZID=America/Los_Angeles:20181114T190000
DTSTAMP:20260424T124821
CREATED:20181107T045420Z
LAST-MODIFIED:20181107T045529Z
UID:4296-1542218400-1542222000@betsybellauthor.com
SUMMARY:Home Street Bank Reading (West Seattle)
DESCRIPTION:I will be reading at Home Street Bank in West Seattle Wednesday November 14.
URL:https://betsybellauthor.com/event/home-street-bank-reading-west-seattle/
LOCATION:Home Street Bank\, 4022 SW Alaska St.\, Seattle\, WA\, 98116
END:VEVENT
BEGIN:VEVENT
DTSTART;TZID=America/Los_Angeles:20181113T190000
DTEND;TZID=America/Los_Angeles:20181113T190000
DTSTAMP:20260424T124821
CREATED:20181108T043106Z
LAST-MODIFIED:20181113T054413Z
UID:4304-1542135600-1542135600@betsybellauthor.com
SUMMARY:Club UN: Global Press Freedom
DESCRIPTION:
URL:https://betsybellauthor.com/event/club-un-global-press-freedom/
LOCATION:Chocolati Cafe Wallingford\, 1716 N 45th St.\, Seattle\, WA\, 98103
END:VEVENT
BEGIN:VEVENT
DTSTART;TZID=America/Los_Angeles:20181111T121500
DTEND;TZID=America/Los_Angeles:20181111T121500
DTSTAMP:20260424T124821
CREATED:20181108T044807Z
LAST-MODIFIED:20181108T044807Z
UID:4315-1541938500-1541938500@betsybellauthor.com
SUMMARY:Bloedel Hall (West end of Saint Mark's Cathedral)
DESCRIPTION:Featuring Dick Carter\, author of an essay in Open Borders; Elena Campbell\, History Prof. from UW\, about memoir and history. Of course\, I will talk about why I wrote Open Borders now and the continuing threat of nuclear war. Citizen diplomacy makes a difference\, or does it?
URL:https://betsybellauthor.com/event/bloedel-hall-west-end-of-saint-marks-cathedral/
LOCATION:Bloedel Hall (West end of Saint Mark’s Cathedral)\, 1245 10th Ave\, Seattle\, WA\, 98102
END:VEVENT
BEGIN:VEVENT
DTSTART;TZID=America/Los_Angeles:20181110T130000
DTEND;TZID=America/Los_Angeles:20181110T130000
DTSTAMP:20260424T124821
CREATED:20181108T042217Z
LAST-MODIFIED:20181108T042217Z
UID:4302-1541854800-1541854800@betsybellauthor.com
SUMMARY:Ground Zero's Annual Membership Meeting
DESCRIPTION:
URL:https://betsybellauthor.com/event/ground-zeros-annual-membership-meeting/
LOCATION:WA
END:VEVENT
BEGIN:VEVENT
DTSTART;TZID=America/Los_Angeles:20181107T080000
DTEND;TZID=America/Los_Angeles:20181107T170000
DTSTAMP:20260424T124821
CREATED:20181108T044003Z
LAST-MODIFIED:20181108T044003Z
UID:4312-1541577600-1541610000@betsybellauthor.com
SUMMARY:First Tuesday Peace Vigil
DESCRIPTION:
URL:https://betsybellauthor.com/event/first-tuesday-peace-vigil/
LOCATION:Henry M. Jackson Federal Building\, 915 2nd Ave.\, Seattle\, WA\, 98104
END:VEVENT
END:VCALENDAR