BEGIN:VCALENDAR
VERSION:2.0
PRODID:-//Betsy Bell, Author - ECPv6.15.20//NONSGML v1.0//EN
CALSCALE:GREGORIAN
METHOD:PUBLISH
X-ORIGINAL-URL:https://betsybellauthor.com
X-WR-CALDESC:Events for Betsy Bell, Author
REFRESH-INTERVAL;VALUE=DURATION:PT1H
X-Robots-Tag:noindex
X-PUBLISHED-TTL:PT1H
BEGIN:VTIMEZONE
TZID:America/Los_Angeles
BEGIN:DAYLIGHT
TZOFFSETFROM:-0800
TZOFFSETTO:-0700
TZNAME:PDT
DTSTART:20170312T100000
END:DAYLIGHT
BEGIN:STANDARD
TZOFFSETFROM:-0700
TZOFFSETTO:-0800
TZNAME:PST
DTSTART:20171105T090000
END:STANDARD
BEGIN:DAYLIGHT
TZOFFSETFROM:-0800
TZOFFSETTO:-0700
TZNAME:PDT
DTSTART:20180311T100000
END:DAYLIGHT
BEGIN:STANDARD
TZOFFSETFROM:-0700
TZOFFSETTO:-0800
TZNAME:PST
DTSTART:20181104T090000
END:STANDARD
BEGIN:DAYLIGHT
TZOFFSETFROM:-0800
TZOFFSETTO:-0700
TZNAME:PDT
DTSTART:20190310T100000
END:DAYLIGHT
BEGIN:STANDARD
TZOFFSETFROM:-0700
TZOFFSETTO:-0800
TZNAME:PST
DTSTART:20191103T090000
END:STANDARD
BEGIN:DAYLIGHT
TZOFFSETFROM:-0800
TZOFFSETTO:-0700
TZNAME:PDT
DTSTART:20200308T100000
END:DAYLIGHT
BEGIN:STANDARD
TZOFFSETFROM:-0700
TZOFFSETTO:-0800
TZNAME:PST
DTSTART:20201101T090000
END:STANDARD
END:VTIMEZONE
BEGIN:VEVENT
DTSTART;TZID=America/Los_Angeles:20191014T183000
DTEND;TZID=America/Los_Angeles:20191014T193000
DTSTAMP:20260424T091053
CREATED:20190925T031442Z
LAST-MODIFIED:20190925T031442Z
UID:4591-1571077800-1571081400@betsybellauthor.com
SUMMARY:Roslyn Public Library book reading
DESCRIPTION:Betsy Bell reads from Open Borders on Monday\, October 14th from 6:30 – 7:30 p.m. at the Roslyn Public Library\, 201 S. First Street\, Roslyn\, WA 98941 \n\n \n\n \nYou are invited to a book talk by author Betsy Bell. Her personal story of anti – war activism in a world on the brink of nuclear destruction in 1982 may give you hope for our time. To read Open Borders and attend the next public reading\, visit www.BetsyBellauthor.Com \nPosted by Openborders on Tuesday\, September 24\, 2019 \n\nYou are invited to a book talk by author Betsy Bell. Her personal story of anti – war activism in a world on the brink of nuclear destruction in 1982 may give you hope for our time. To read the book\, go to your local book store and ask for ISBN: 978-1-941890-21-9 or Amazon.com \nThese discussions can help alleviate the existential extinction anxiety many of us feel. In the face of such tramatic possibilities in 1982\, citizens created a movement to change their future. We can do that again through Active Hope. (Joanna Macy)
URL:https://betsybellauthor.com/event/roslyn-public-library-book-reading/
ATTACH;FMTTYPE=image/jpeg:https://betsybellauthor.com/wp-content/uploads/2019/09/cashmere-PL-book-talk.jpg
END:VEVENT
BEGIN:VEVENT
DTSTART;TZID=America/Los_Angeles:20190214T180000
DTEND;TZID=America/Los_Angeles:20190214T190000
DTSTAMP:20260424T091053
CREATED:20181211T021224Z
LAST-MODIFIED:20190208T230632Z
UID:4432-1550167200-1550170800@betsybellauthor.com
SUMMARY:SW branch Seattle Public Library book talk and signing Feb. 14th
DESCRIPTION:Betsy Bell will talk about Open Borders on Thursday\, Feb. 14th at 6 p.m. A brief history of the Cold War\, Seattle’s response to the arrival of the first nuclear submarine in Puget Sound\, and the importance of Sister Cities\, a program started by Dwight Eisenhawer at the end of WWII. He believed that by getting to know each other–people to people–around the world\, we would lessen the likelihood of military confrontation. Join us. Books available from Page2books in Burien on Main Street. Pick up a copy and get one at the event.
URL:https://betsybellauthor.com/event/sw-branch-seattle-public-library-book-talk-and-signing-feb-14th/
LOCATION:seattle public library\, 9010 35th Ave. S.W.\, Seattle\, WA\, 98126\, United States
ATTACH;FMTTYPE=image/jpeg:https://betsybellauthor.com/wp-content/uploads/2018/10/IMG_4324001002-e1544494894286.jpg
END:VEVENT
BEGIN:VEVENT
DTSTART;TZID=America/Los_Angeles:20190125T180000
DTEND;TZID=America/Los_Angeles:20190125T193000
DTSTAMP:20260424T091053
CREATED:20181208T015227Z
LAST-MODIFIED:20181208T020752Z
UID:4418-1548439200-1548444600@betsybellauthor.com
SUMMARY:Third Place Books talk and signing
DESCRIPTION:Friday\, January 25th\, 2019 at 6 p.m.\, Lake Forest Park’s Third Place Book will present Betsy Bell\, author of Open Borders: A personal story of love\, loss and anti-war activism. On the program with her will be Anne Stadler\, author of an essay included in Open Borders. Bell’s is the story of how a middle-aged wife and mother finds herself in a world on the brink of nuclear destruction. Anne’s is the story of creating the first Space Bridge simultaneous television broadcast between the US and the USSR\, 1985. A powerful presentation about ordinary citizens doing extraordinary things to prevent nuclear war. An inspiration for our time. \nhttps://www.thirdplacebooks.com/auth-event?page=1
URL:https://betsybellauthor.com/event/third-place-books-talk-and-signing/
END:VEVENT
BEGIN:VEVENT
DTSTART;TZID=America/Los_Angeles:20190121T080000
DTEND;TZID=America/Los_Angeles:20190121T170000
DTSTAMP:20260424T091053
CREATED:20190101T001323Z
LAST-MODIFIED:20190101T001323Z
UID:4521-1548057600-1548090000@betsybellauthor.com
SUMMARY:Seattle MLK Day 2019: January 21st
DESCRIPTION:Seattle MLK Day 2019: January 21st. Affirmative Action = Justice. Garfield High School. WANW will have a contingent at the Seattle MLK Day March. For more information on all of the days events\, click here. Veterans for Peace is also running a workshop in the morning called “MLK and Militarism.”
URL:https://betsybellauthor.com/event/seattle-mlk-day-2019-january-21st/
END:VEVENT
BEGIN:VEVENT
DTSTART;TZID=America/Los_Angeles:20190119T080000
DTEND;TZID=America/Los_Angeles:20190119T170000
DTSTAMP:20260424T091053
CREATED:20190101T001031Z
LAST-MODIFIED:20190101T001031Z
UID:4519-1547884800-1547917200@betsybellauthor.com
SUMMARY:Women's March
DESCRIPTION:Women’s March: January 19th. WANW will have a contingent at the Seattle Women’s March. More details to come.
URL:https://betsybellauthor.com/event/womens-march/
END:VEVENT
BEGIN:VEVENT
DTSTART;TZID=America/Los_Angeles:20190113T140000
DTEND;TZID=America/Los_Angeles:20190113T153000
DTSTAMP:20260424T091053
CREATED:20190101T000606Z
LAST-MODIFIED:20190101T000823Z
UID:4516-1547388000-1547393400@betsybellauthor.com
SUMMARY:Houses for Peace: Exploring the Legacy of Floyd Schmoe:
DESCRIPTION:Houses for Peace: Exploring the Legacy of Floyd Schmoe: January 13th. 2 p.m. at the University of Washington\, Kane Hall 120. This documentary honors the legacy of Floyd Schmoe\, who organized a diverse team of American and Japanese volunteers on a mission of peace to build houses for families who survived the World War II atomic bombing of Hiroshima and Nagasaki. For more information\, sponsors\, and a trailer\, click here.
URL:https://betsybellauthor.com/event/houses-for-peace-exploring-the-legacy-of-floyd-schmoe/
END:VEVENT
BEGIN:VEVENT
DTSTART;TZID=America/Los_Angeles:20181212T180000
DTEND;TZID=America/Los_Angeles:20181212T200000
DTSTAMP:20260424T091053
CREATED:20181127T215652Z
LAST-MODIFIED:20181127T215652Z
UID:4409-1544637600-1544644800@betsybellauthor.com
SUMMARY:"Aligning with the 2017 Nuclear Ban Treaty" with NuclearBan. Movie night
DESCRIPTION:December 12th: “Aligning with the 2017 Nuclear Ban Treaty” with NuclearBan.US. Tentative details: 6-8pm\, St. Patrick’s Church\, Seattle\, WA.
URL:https://betsybellauthor.com/event/aligning-with-the-2017-nuclear-ban-treaty-with-nuclearban-movie-night/
END:VEVENT
BEGIN:VEVENT
DTSTART;TZID=America/Los_Angeles:20181211T183000
DTEND;TZID=America/Los_Angeles:20181211T203000
DTSTAMP:20260424T091053
CREATED:20181127T215131Z
LAST-MODIFIED:20181127T215231Z
UID:4406-1544553000-1544560200@betsybellauthor.com
SUMMARY:Cheers with WPSR Lagunitas Brewery in Ballard
DESCRIPTION:December 11th: Cheers with WPSR! 6:30-8:30 PM\, Lagunitas Brewery in Ballard. Join us at Lagunitas for a fun evening of trivia and connecting with the WPSR community. RSVP here.
URL:https://betsybellauthor.com/event/cheers-with-wpsr-lagunitas-brewery-in-ballard/
END:VEVENT
BEGIN:VEVENT
DTSTART;TZID=America/Los_Angeles:20181204T110000
DTEND;TZID=America/Los_Angeles:20181204T130000
DTSTAMP:20260424T091053
CREATED:20181127T214902Z
LAST-MODIFIED:20181127T214902Z
UID:4404-1543921200-1543928400@betsybellauthor.com
SUMMARY:Downtown Seattle Anti-War Protest w/ Downtown Seattle Anti-War Coalition
DESCRIPTION:December 4th: Downtown Seattle Anti-War Protest w/ Downtown Seattle Anti-War Coalition. 11am-1:00pm\, Federal Building\, 915 2nd Ave\, Seattle\, WA. Come hand out literature and educate people on their lunch break.
URL:https://betsybellauthor.com/event/downtown-seattle-anti-war-protest-w-downtown-seattle-anti-war-coalition/
END:VEVENT
BEGIN:VEVENT
DTSTART;TZID=America/Los_Angeles:20181203T170000
DTEND;TZID=America/Los_Angeles:20181203T190000
DTSTAMP:20260424T091053
CREATED:20181031T033620Z
LAST-MODIFIED:20181127T214557Z
UID:4308-1543856400-1543863600@betsybellauthor.com
SUMMARY:The Future of Nuclear Weapons: Washington's Leadership
DESCRIPTION:December 3rd: “The Future of Nuclear Weapons: Washington’s Leadership” RSVP HERE. WPSR\, Ploughshares Fund\, \nUniversity of Washington\n  Kane Hall\, Room 210\n4069 Spokane Lane\n Seattle\, WA 98195\nUniversity of Washington. 5 – 7pm\, University of Washington.
URL:https://betsybellauthor.com/event/the-future-of-nuclear-weapons-washingtons-leadership/
LOCATION:University of Washington\, Jackson School\, UW Seattle Campus
END:VEVENT
BEGIN:VEVENT
DTSTART;TZID=America/Los_Angeles:20181114T180000
DTEND;TZID=America/Los_Angeles:20181114T190000
DTSTAMP:20260424T091053
CREATED:20181107T045420Z
LAST-MODIFIED:20181107T045529Z
UID:4296-1542218400-1542222000@betsybellauthor.com
SUMMARY:Home Street Bank Reading (West Seattle)
DESCRIPTION:I will be reading at Home Street Bank in West Seattle Wednesday November 14.
URL:https://betsybellauthor.com/event/home-street-bank-reading-west-seattle/
LOCATION:Home Street Bank\, 4022 SW Alaska St.\, Seattle\, WA\, 98116
END:VEVENT
BEGIN:VEVENT
DTSTART;TZID=America/Los_Angeles:20181113T190000
DTEND;TZID=America/Los_Angeles:20181113T190000
DTSTAMP:20260424T091053
CREATED:20181108T043106Z
LAST-MODIFIED:20181113T054413Z
UID:4304-1542135600-1542135600@betsybellauthor.com
SUMMARY:Club UN: Global Press Freedom
DESCRIPTION:
URL:https://betsybellauthor.com/event/club-un-global-press-freedom/
LOCATION:Chocolati Cafe Wallingford\, 1716 N 45th St.\, Seattle\, WA\, 98103
END:VEVENT
BEGIN:VEVENT
DTSTART;TZID=America/Los_Angeles:20181111T121500
DTEND;TZID=America/Los_Angeles:20181111T121500
DTSTAMP:20260424T091053
CREATED:20181108T044807Z
LAST-MODIFIED:20181108T044807Z
UID:4315-1541938500-1541938500@betsybellauthor.com
SUMMARY:Bloedel Hall (West end of Saint Mark's Cathedral)
DESCRIPTION:Featuring Dick Carter\, author of an essay in Open Borders; Elena Campbell\, History Prof. from UW\, about memoir and history. Of course\, I will talk about why I wrote Open Borders now and the continuing threat of nuclear war. Citizen diplomacy makes a difference\, or does it?
URL:https://betsybellauthor.com/event/bloedel-hall-west-end-of-saint-marks-cathedral/
LOCATION:Bloedel Hall (West end of Saint Mark’s Cathedral)\, 1245 10th Ave\, Seattle\, WA\, 98102
END:VEVENT
BEGIN:VEVENT
DTSTART;TZID=America/Los_Angeles:20181110T130000
DTEND;TZID=America/Los_Angeles:20181110T130000
DTSTAMP:20260424T091053
CREATED:20181108T042217Z
LAST-MODIFIED:20181108T042217Z
UID:4302-1541854800-1541854800@betsybellauthor.com
SUMMARY:Ground Zero's Annual Membership Meeting
DESCRIPTION:
URL:https://betsybellauthor.com/event/ground-zeros-annual-membership-meeting/
END:VEVENT
BEGIN:VEVENT
DTSTART;TZID=America/Los_Angeles:20181107T080000
DTEND;TZID=America/Los_Angeles:20181107T170000
DTSTAMP:20260424T091053
CREATED:20181108T044003Z
LAST-MODIFIED:20181108T044003Z
UID:4312-1541577600-1541610000@betsybellauthor.com
SUMMARY:First Tuesday Peace Vigil
DESCRIPTION:
URL:https://betsybellauthor.com/event/first-tuesday-peace-vigil/
LOCATION:Henry M. Jackson Federal Building\, 915 2nd Ave.\, Seattle\, WA\, 98104
END:VEVENT
END:VCALENDAR